BEGIN:VCALENDAR
VERSION:2.0
PRODID:-//MS Grafendorf - ECPv6.15.3//NONSGML v1.0//EN
CALSCALE:GREGORIAN
METHOD:PUBLISH
X-WR-CALNAME:MS Grafendorf
X-ORIGINAL-URL:https://ms-grafendorf.at
X-WR-CALDESC:Veranstaltungen für MS Grafendorf
REFRESH-INTERVAL;VALUE=DURATION:PT1H
X-Robots-Tag:noindex
X-PUBLISHED-TTL:PT1H
BEGIN:VTIMEZONE
TZID:Europe/Berlin
BEGIN:DAYLIGHT
TZOFFSETFROM:+0100
TZOFFSETTO:+0200
TZNAME:CEST
DTSTART:20260329T010000
END:DAYLIGHT
BEGIN:STANDARD
TZOFFSETFROM:+0200
TZOFFSETTO:+0100
TZNAME:CET
DTSTART:20261025T010000
END:STANDARD
END:VTIMEZONE
BEGIN:VEVENT
DTSTART;TZID=Europe/Berlin:20260511T080000
DTEND;TZID=Europe/Berlin:20260511T170000
DTSTAMP:20260420T214012
CREATED:20260226T064126Z
LAST-MODIFIED:20260226T064126Z
UID:10508-1778486400-1778518800@ms-grafendorf.at
SUMMARY:Deutsch SA 3ab
DESCRIPTION:
URL:https://ms-grafendorf.at/kalender/deutsch-sa-3ab-18/
CATEGORIES:Schularbeiten
END:VEVENT
BEGIN:VEVENT
DTSTART;TZID=Europe/Berlin:20260512T080000
DTEND;TZID=Europe/Berlin:20260512T170000
DTSTAMP:20260420T214012
CREATED:20260226T063959Z
LAST-MODIFIED:20260226T063959Z
UID:10500-1778572800-1778605200@ms-grafendorf.at
SUMMARY:Deutsch SA 1ab
DESCRIPTION:
URL:https://ms-grafendorf.at/kalender/deutsch-sa-1ab-21/
CATEGORIES:Schularbeiten
END:VEVENT
BEGIN:VEVENT
DTSTART;TZID=Europe/Berlin:20260512T080000
DTEND;TZID=Europe/Berlin:20260512T170000
DTSTAMP:20260420T214012
CREATED:20260226T064048Z
LAST-MODIFIED:20260226T064048Z
UID:10504-1778572800-1778605200@ms-grafendorf.at
SUMMARY:Deutsch SA 2ab
DESCRIPTION:
URL:https://ms-grafendorf.at/kalender/deutsch-sa-2ab-18/
CATEGORIES:Schularbeiten
END:VEVENT
BEGIN:VEVENT
DTSTART;TZID=Europe/Berlin:20260512T080000
DTEND;TZID=Europe/Berlin:20260513T170000
DTSTAMP:20260420T214012
CREATED:20250919T115754Z
LAST-MODIFIED:20250919T115754Z
UID:10077-1778572800-1778691600@ms-grafendorf.at
SUMMARY:Jobs in the Box 3ab
DESCRIPTION:
URL:https://ms-grafendorf.at/kalender/jobs-in-the-box-3ab/
END:VEVENT
BEGIN:VEVENT
DTSTART;TZID=Europe/Berlin:20260513T080000
DTEND;TZID=Europe/Berlin:20260513T170000
DTSTAMP:20260420T214012
CREATED:20260226T064159Z
LAST-MODIFIED:20260226T064159Z
UID:10512-1778659200-1778691600@ms-grafendorf.at
SUMMARY:Deutsch SA 4ab
DESCRIPTION:
URL:https://ms-grafendorf.at/kalender/deutsch-sa-4ab-20/
CATEGORIES:Schularbeiten
END:VEVENT
BEGIN:VEVENT
DTSTART;TZID=Europe/Berlin:20260514T080000
DTEND;TZID=Europe/Berlin:20260515T170000
DTSTAMP:20260420T214012
CREATED:20250919T115834Z
LAST-MODIFIED:20250919T115834Z
UID:10079-1778745600-1778864400@ms-grafendorf.at
SUMMARY:Christi Himmelfahrt/zentraler schulfreier Tag
DESCRIPTION:
URL:https://ms-grafendorf.at/kalender/christi-himmelfahrt-zentraler-schulfreier-tag/
END:VEVENT
BEGIN:VEVENT
DTSTART;TZID=Europe/Berlin:20260518T080000
DTEND;TZID=Europe/Berlin:20260522T170000
DTSTAMP:20260420T214012
CREATED:20250919T115908Z
LAST-MODIFIED:20250919T115908Z
UID:10081-1779091200-1779469200@ms-grafendorf.at
SUMMARY:Sportwoche Lignano 4ab
DESCRIPTION:
URL:https://ms-grafendorf.at/kalender/sportwoche-lignano-4ab/
END:VEVENT
BEGIN:VEVENT
DTSTART;TZID=Europe/Berlin:20260518T080000
DTEND;TZID=Europe/Berlin:20260522T170000
DTSTAMP:20260420T214012
CREATED:20250919T115946Z
LAST-MODIFIED:20250919T115946Z
UID:10083-1779091200-1779469200@ms-grafendorf.at
SUMMARY:Projekttage im Burgenland 3ab
DESCRIPTION:
URL:https://ms-grafendorf.at/kalender/projekttage-im-burgenland-3ab/
END:VEVENT
BEGIN:VEVENT
DTSTART;TZID=Europe/Berlin:20260523T080000
DTEND;TZID=Europe/Berlin:20260525T170000
DTSTAMP:20260420T214012
CREATED:20250919T120021Z
LAST-MODIFIED:20250919T120021Z
UID:10085-1779523200-1779728400@ms-grafendorf.at
SUMMARY:Pfingstferien
DESCRIPTION:
URL:https://ms-grafendorf.at/kalender/pfingstferien-3/
END:VEVENT
END:VCALENDAR