BEGIN:VCALENDAR
VERSION:2.0
PRODID:-//MS Grafendorf - ECPv6.15.3//NONSGML v1.0//EN
CALSCALE:GREGORIAN
METHOD:PUBLISH
X-ORIGINAL-URL:https://ms-grafendorf.at
X-WR-CALDESC:Veranstaltungen für MS Grafendorf
REFRESH-INTERVAL;VALUE=DURATION:PT1H
X-Robots-Tag:noindex
X-PUBLISHED-TTL:PT1H
BEGIN:VTIMEZONE
TZID:Europe/Berlin
BEGIN:DAYLIGHT
TZOFFSETFROM:+0100
TZOFFSETTO:+0200
TZNAME:CEST
DTSTART:20250330T010000
END:DAYLIGHT
BEGIN:STANDARD
TZOFFSETFROM:+0200
TZOFFSETTO:+0100
TZNAME:CET
DTSTART:20251026T010000
END:STANDARD
END:VTIMEZONE
BEGIN:VEVENT
DTSTART;TZID=Europe/Berlin:20251106T080000
DTEND;TZID=Europe/Berlin:20251106T170000
DTSTAMP:20260421T033853
CREATED:20250930T100424Z
LAST-MODIFIED:20250930T100424Z
UID:10145-1762416000-1762448400@ms-grafendorf.at
SUMMARY:Englisch SA 2ab
DESCRIPTION:
URL:https://ms-grafendorf.at/kalender/englisch-sa-2ab-16/
CATEGORIES:Schularbeiten
END:VEVENT
BEGIN:VEVENT
DTSTART;TZID=Europe/Berlin:20251112T080000
DTEND;TZID=Europe/Berlin:20251112T170000
DTSTAMP:20260421T033853
CREATED:20250930T100748Z
LAST-MODIFIED:20250930T100748Z
UID:10163-1762934400-1762966800@ms-grafendorf.at
SUMMARY:Mathematik SA 4ab
DESCRIPTION:
URL:https://ms-grafendorf.at/kalender/mathematik-sa-4ab-16/
CATEGORIES:Schularbeiten
END:VEVENT
BEGIN:VEVENT
DTSTART;TZID=Europe/Berlin:20251113T080000
DTEND;TZID=Europe/Berlin:20251113T170000
DTSTAMP:20260421T033853
CREATED:20250930T100119Z
LAST-MODIFIED:20250930T100119Z
UID:10130-1763020800-1763053200@ms-grafendorf.at
SUMMARY:Englisch SA 1ab
DESCRIPTION:
URL:https://ms-grafendorf.at/kalender/englisch-sa-1ab-17/
CATEGORIES:Schularbeiten
END:VEVENT
BEGIN:VEVENT
DTSTART;TZID=Europe/Berlin:20251114T080000
DTEND;TZID=Europe/Berlin:20251114T170000
DTSTAMP:20260421T033853
CREATED:20250930T100247Z
LAST-MODIFIED:20250930T100247Z
UID:10141-1763107200-1763139600@ms-grafendorf.at
SUMMARY:Mathematik SA 2ab
DESCRIPTION:
URL:https://ms-grafendorf.at/kalender/mathematik-sa-2ab-15/
CATEGORIES:Schularbeiten
END:VEVENT
BEGIN:VEVENT
DTSTART;TZID=Europe/Berlin:20251120T080000
DTEND;TZID=Europe/Berlin:20251120T170000
DTSTAMP:20260421T033853
CREATED:20250930T100038Z
LAST-MODIFIED:20250930T100038Z
UID:10126-1763625600-1763658000@ms-grafendorf.at
SUMMARY:Mathematik SA 1ab
DESCRIPTION:
URL:https://ms-grafendorf.at/kalender/mathematik-sa-1ab-16/
CATEGORIES:Schularbeiten
END:VEVENT
BEGIN:VEVENT
DTSTART;TZID=Europe/Berlin:20251121T080000
DTEND;TZID=Europe/Berlin:20251121T170000
DTSTAMP:20260421T033853
CREATED:20250930T100547Z
LAST-MODIFIED:20250930T100547Z
UID:10153-1763712000-1763744400@ms-grafendorf.at
SUMMARY:Mathematik SA 3ab
DESCRIPTION:
URL:https://ms-grafendorf.at/kalender/mathematik-sa-3ab-14/
CATEGORIES:Schularbeiten
END:VEVENT
BEGIN:VEVENT
DTSTART;TZID=Europe/Berlin:20251127T160000
DTEND;TZID=Europe/Berlin:20251127T190000
DTSTAMP:20260421T033853
CREATED:20250919T115519Z
LAST-MODIFIED:20250919T115519Z
UID:10069-1764259200-1764270000@ms-grafendorf.at
SUMMARY:Elternsprechtag
DESCRIPTION:
URL:https://ms-grafendorf.at/kalender/elternsprechtag-11/
END:VEVENT
END:VCALENDAR