BEGIN:VCALENDAR
VERSION:2.0
PRODID:-//MS Grafendorf - ECPv6.15.3//NONSGML v1.0//EN
CALSCALE:GREGORIAN
METHOD:PUBLISH
X-WR-CALNAME:MS Grafendorf
X-ORIGINAL-URL:https://ms-grafendorf.at
X-WR-CALDESC:Veranstaltungen für MS Grafendorf
REFRESH-INTERVAL;VALUE=DURATION:PT1H
X-Robots-Tag:noindex
X-PUBLISHED-TTL:PT1H
BEGIN:VTIMEZONE
TZID:Europe/Berlin
BEGIN:DAYLIGHT
TZOFFSETFROM:+0100
TZOFFSETTO:+0200
TZNAME:CEST
DTSTART:20250330T010000
END:DAYLIGHT
BEGIN:STANDARD
TZOFFSETFROM:+0200
TZOFFSETTO:+0100
TZNAME:CET
DTSTART:20251026T010000
END:STANDARD
END:VTIMEZONE
BEGIN:VEVENT
DTSTART;TZID=Europe/Berlin:20250910T080000
DTEND;TZID=Europe/Berlin:20250910T170000
DTSTAMP:20260421T062942
CREATED:20250919T115145Z
LAST-MODIFIED:20250919T115145Z
UID:10059-1757491200-1757523600@ms-grafendorf.at
SUMMARY:Peerprojekt für die 1ab
DESCRIPTION:
URL:https://ms-grafendorf.at/kalender/peerprojekt-fuer-die-1ab/
END:VEVENT
BEGIN:VEVENT
DTSTART;TZID=Europe/Berlin:20250911T080000
DTEND;TZID=Europe/Berlin:20250911T170000
DTSTAMP:20260421T062942
CREATED:20250919T113617Z
LAST-MODIFIED:20250919T113617Z
UID:10042-1757577600-1757610000@ms-grafendorf.at
SUMMARY:Klassenforum 1ab
DESCRIPTION:
URL:https://ms-grafendorf.at/kalender/klassenforum-1ab-3/
END:VEVENT
BEGIN:VEVENT
DTSTART;TZID=Europe/Berlin:20250912T080000
DTEND;TZID=Europe/Berlin:20250912T170000
DTSTAMP:20260421T062942
CREATED:20250919T115209Z
LAST-MODIFIED:20250919T115209Z
UID:10061-1757664000-1757696400@ms-grafendorf.at
SUMMARY:Halbtagswanderung zur Hubertuskapelle mit den Volksschulen
DESCRIPTION:
URL:https://ms-grafendorf.at/kalender/halbtagswanderung-zur-hubertuskapelle-mit-den-volksschulen/
END:VEVENT
BEGIN:VEVENT
DTSTART;TZID=Europe/Berlin:20250916T190000
DTEND;TZID=Europe/Berlin:20250916T200000
DTSTAMP:20260421T062942
CREATED:20250919T115112Z
LAST-MODIFIED:20250919T115112Z
UID:10056-1758049200-1758052800@ms-grafendorf.at
SUMMARY:Klassenforum 4ab
DESCRIPTION:
URL:https://ms-grafendorf.at/kalender/klassenforum-4ab-2/
END:VEVENT
BEGIN:VEVENT
DTSTART;TZID=Europe/Berlin:20250918T190000
DTEND;TZID=Europe/Berlin:20250918T200000
DTSTAMP:20260421T062942
CREATED:20250919T115028Z
LAST-MODIFIED:20250919T115028Z
UID:10054-1758222000-1758225600@ms-grafendorf.at
SUMMARY:Klassenforum 3ab
DESCRIPTION:
URL:https://ms-grafendorf.at/kalender/klassenforum-3ab-2/
END:VEVENT
BEGIN:VEVENT
DTSTART;TZID=Europe/Berlin:20250924T080000
DTEND;TZID=Europe/Berlin:20250926T170000
DTSTAMP:20260421T062942
CREATED:20250919T113650Z
LAST-MODIFIED:20250919T113650Z
UID:10044-1758700800-1758906000@ms-grafendorf.at
SUMMARY:Kennenlerntage 1ab
DESCRIPTION:
URL:https://ms-grafendorf.at/kalender/kennenlerntage-1ab-2/
END:VEVENT
BEGIN:VEVENT
DTSTART;TZID=Europe/Berlin:20250929T190000
DTEND;TZID=Europe/Berlin:20250929T200000
DTSTAMP:20260421T062942
CREATED:20250919T114951Z
LAST-MODIFIED:20250919T114951Z
UID:10052-1759172400-1759176000@ms-grafendorf.at
SUMMARY:Klassenforum 2ab
DESCRIPTION:
URL:https://ms-grafendorf.at/kalender/klassenforum-2ab-2/
END:VEVENT
END:VCALENDAR