BEGIN:VCALENDAR
VERSION:2.0
PRODID:-//MS Grafendorf - ECPv6.15.3//NONSGML v1.0//EN
CALSCALE:GREGORIAN
METHOD:PUBLISH
X-WR-CALNAME:MS Grafendorf
X-ORIGINAL-URL:https://ms-grafendorf.at
X-WR-CALDESC:Veranstaltungen für MS Grafendorf
REFRESH-INTERVAL;VALUE=DURATION:PT1H
X-Robots-Tag:noindex
X-PUBLISHED-TTL:PT1H
BEGIN:VTIMEZONE
TZID:Europe/Berlin
BEGIN:DAYLIGHT
TZOFFSETFROM:+0100
TZOFFSETTO:+0200
TZNAME:CEST
DTSTART:20250330T010000
END:DAYLIGHT
BEGIN:STANDARD
TZOFFSETFROM:+0200
TZOFFSETTO:+0100
TZNAME:CET
DTSTART:20251026T010000
END:STANDARD
END:VTIMEZONE
BEGIN:VEVENT
DTSTART;TZID=Europe/Berlin:20250313T080000
DTEND;TZID=Europe/Berlin:20250313T170000
DTSTAMP:20260421T155115
CREATED:20250214T085205Z
LAST-MODIFIED:20250214T085205Z
UID:9693-1741852800-1741885200@ms-grafendorf.at
SUMMARY:Englisch Schularbeit 1ab
DESCRIPTION:
URL:https://ms-grafendorf.at/kalender/englisch-schularbeit-1ab-9/
END:VEVENT
BEGIN:VEVENT
DTSTART;TZID=Europe/Berlin:20250314T080000
DTEND;TZID=Europe/Berlin:20250314T170000
DTSTAMP:20260421T155115
CREATED:20250214T085434Z
LAST-MODIFIED:20250214T085434Z
UID:9705-1741939200-1741971600@ms-grafendorf.at
SUMMARY:Englisch Schularbeit 3ab
DESCRIPTION:
URL:https://ms-grafendorf.at/kalender/englisch-schularbeit-3ab-11/
END:VEVENT
BEGIN:VEVENT
DTSTART;TZID=Europe/Berlin:20250318T080000
DTEND;TZID=Europe/Berlin:20250318T170000
DTSTAMP:20260421T155115
CREATED:20250214T084701Z
LAST-MODIFIED:20250214T084701Z
UID:9659-1742284800-1742317200@ms-grafendorf.at
SUMMARY:Deutsch Schularbeit 1ab
DESCRIPTION:
URL:https://ms-grafendorf.at/kalender/deutsch-schularbeit-1ab-9/
CATEGORIES:Schularbeiten
END:VEVENT
BEGIN:VEVENT
DTSTART;TZID=Europe/Berlin:20250318T080000
DTEND;TZID=Europe/Berlin:20250318T170000
DTSTAMP:20260421T155115
CREATED:20250214T084801Z
LAST-MODIFIED:20250214T084801Z
UID:9667-1742284800-1742317200@ms-grafendorf.at
SUMMARY:Deutsch Schularbeit 3ab
DESCRIPTION:
URL:https://ms-grafendorf.at/kalender/deutsch-schularbeit-3ab-9/
END:VEVENT
BEGIN:VEVENT
DTSTART;TZID=Europe/Berlin:20250320T080000
DTEND;TZID=Europe/Berlin:20250320T170000
DTSTAMP:20260421T155115
CREATED:20250214T084730Z
LAST-MODIFIED:20250214T084730Z
UID:9663-1742457600-1742490000@ms-grafendorf.at
SUMMARY:Deutsch Schularbeit 2ab
DESCRIPTION:
URL:https://ms-grafendorf.at/kalender/deutsch-schularbeit-2ab-9/
END:VEVENT
BEGIN:VEVENT
DTSTART;TZID=Europe/Berlin:20250321T080000
DTEND;TZID=Europe/Berlin:20250321T170000
DTSTAMP:20260421T155115
CREATED:20250214T084831Z
LAST-MODIFIED:20250214T084831Z
UID:9671-1742544000-1742576400@ms-grafendorf.at
SUMMARY:Deutsch Schularbeit 4ab
DESCRIPTION:
URL:https://ms-grafendorf.at/kalender/deutsch-schularbeit-4ab-9/
END:VEVENT
BEGIN:VEVENT
DTSTART;TZID=Europe/Berlin:20250325T080000
DTEND;TZID=Europe/Berlin:20250325T170000
DTSTAMP:20260421T155115
CREATED:20250214T085020Z
LAST-MODIFIED:20250214T085020Z
UID:9680-1742889600-1742922000@ms-grafendorf.at
SUMMARY:Mathematik Schularbeit 2ab
DESCRIPTION:
URL:https://ms-grafendorf.at/kalender/mathematik-schularbeit-2ab-9/
END:VEVENT
BEGIN:VEVENT
DTSTART;TZID=Europe/Berlin:20250325T080000
DTEND;TZID=Europe/Berlin:20250325T170000
DTSTAMP:20260421T155115
CREATED:20250214T085055Z
LAST-MODIFIED:20250214T085055Z
UID:9684-1742889600-1742922000@ms-grafendorf.at
SUMMARY:Mathematik Schularbeit 3ab
DESCRIPTION:
URL:https://ms-grafendorf.at/kalender/mathematik-schularbeit-3ab-10/
END:VEVENT
BEGIN:VEVENT
DTSTART;TZID=Europe/Berlin:20250326T080000
DTEND;TZID=Europe/Berlin:20250326T170000
DTSTAMP:20260421T155115
CREATED:20250214T084909Z
LAST-MODIFIED:20250214T084922Z
UID:9675-1742976000-1743008400@ms-grafendorf.at
SUMMARY:Mathematik Schularbeit 1ab
DESCRIPTION:
URL:https://ms-grafendorf.at/kalender/mathematik-1ab/
END:VEVENT
BEGIN:VEVENT
DTSTART;TZID=Europe/Berlin:20250328T080000
DTEND;TZID=Europe/Berlin:20250328T170000
DTSTAMP:20260421T155115
CREATED:20250214T085135Z
LAST-MODIFIED:20250214T085135Z
UID:9689-1743148800-1743181200@ms-grafendorf.at
SUMMARY:Mathematik Schularbeit 4ab
DESCRIPTION:
URL:https://ms-grafendorf.at/kalender/mathematik-schularbeit-4ab-9/
END:VEVENT
END:VCALENDAR