BEGIN:VCALENDAR
VERSION:2.0
PRODID:-//MS Grafendorf - ECPv6.15.3//NONSGML v1.0//EN
CALSCALE:GREGORIAN
METHOD:PUBLISH
X-WR-CALNAME:MS Grafendorf
X-ORIGINAL-URL:https://ms-grafendorf.at
X-WR-CALDESC:Veranstaltungen für MS Grafendorf
REFRESH-INTERVAL;VALUE=DURATION:PT1H
X-Robots-Tag:noindex
X-PUBLISHED-TTL:PT1H
BEGIN:VTIMEZONE
TZID:Europe/Berlin
BEGIN:DAYLIGHT
TZOFFSETFROM:+0100
TZOFFSETTO:+0200
TZNAME:CEST
DTSTART:20240331T010000
END:DAYLIGHT
BEGIN:STANDARD
TZOFFSETFROM:+0200
TZOFFSETTO:+0100
TZNAME:CET
DTSTART:20241027T010000
END:STANDARD
BEGIN:DAYLIGHT
TZOFFSETFROM:+0100
TZOFFSETTO:+0200
TZNAME:CEST
DTSTART:20250330T010000
END:DAYLIGHT
BEGIN:STANDARD
TZOFFSETFROM:+0200
TZOFFSETTO:+0100
TZNAME:CET
DTSTART:20251026T010000
END:STANDARD
END:VTIMEZONE
BEGIN:VEVENT
DTSTART;TZID=Europe/Berlin:20241203T080000
DTEND;TZID=Europe/Berlin:20241203T170000
DTSTAMP:20260421T202250
CREATED:20240924T101937Z
LAST-MODIFIED:20240924T102024Z
UID:9391-1733212800-1733245200@ms-grafendorf.at
SUMMARY:Deutsch SA 3ab
DESCRIPTION:
URL:https://ms-grafendorf.at/kalender/deutsch-sa-3ab-14/
CATEGORIES:Schularbeiten
END:VEVENT
BEGIN:VEVENT
DTSTART;TZID=Europe/Berlin:20241204T080000
DTEND;TZID=Europe/Berlin:20241204T120000
DTSTAMP:20260421T202250
CREATED:20240910T071227Z
LAST-MODIFIED:20241119T110924Z
UID:9296-1733299200-1733313600@ms-grafendorf.at
SUMMARY:Tag der offenen Tür
DESCRIPTION:
URL:https://ms-grafendorf.at/kalender/tag-der-offenen-tuer-3/
END:VEVENT
BEGIN:VEVENT
DTSTART;TZID=Europe/Berlin:20241205T080000
DTEND;TZID=Europe/Berlin:20241205T170000
DTSTAMP:20260421T202250
CREATED:20240924T101543Z
LAST-MODIFIED:20240924T101543Z
UID:9379-1733385600-1733418000@ms-grafendorf.at
SUMMARY:Deutsch SA 2ab
DESCRIPTION:
URL:https://ms-grafendorf.at/kalender/deutsch-sa-2ab-14/
CATEGORIES:Schularbeiten
END:VEVENT
BEGIN:VEVENT
DTSTART;TZID=Europe/Berlin:20241209T080000
DTEND;TZID=Europe/Berlin:20241213T170000
DTSTAMP:20260421T202250
CREATED:20240910T071318Z
LAST-MODIFIED:20240910T071318Z
UID:9298-1733731200-1734109200@ms-grafendorf.at
SUMMARY:Wintersportwoche 2ab
DESCRIPTION:
URL:https://ms-grafendorf.at/kalender/wintersportwoche-2ab/
CATEGORIES:Schulveranstaltungen
END:VEVENT
BEGIN:VEVENT
DTSTART;TZID=Europe/Berlin:20241210T080000
DTEND;TZID=Europe/Berlin:20241210T170000
DTSTAMP:20260421T202250
CREATED:20240924T101355Z
LAST-MODIFIED:20240924T101355Z
UID:9367-1733817600-1733850000@ms-grafendorf.at
SUMMARY:Deutsch SA 1ab
DESCRIPTION:
URL:https://ms-grafendorf.at/kalender/deutsch-sa-1ab-17/
CATEGORIES:Schularbeiten
END:VEVENT
BEGIN:VEVENT
DTSTART;TZID=Europe/Berlin:20241212T080000
DTEND;TZID=Europe/Berlin:20241212T170000
DTSTAMP:20260421T202250
CREATED:20240924T102216Z
LAST-MODIFIED:20240924T102216Z
UID:9404-1733990400-1734022800@ms-grafendorf.at
SUMMARY:Deutsch SA 4ab
DESCRIPTION:
URL:https://ms-grafendorf.at/kalender/deutsch-sa-4ab-16/
CATEGORIES:Schularbeiten
END:VEVENT
BEGIN:VEVENT
DTSTART;TZID=Europe/Berlin:20241220T080000
DTEND;TZID=Europe/Berlin:20250106T170000
DTSTAMP:20260421T202250
CREATED:20240910T072003Z
LAST-MODIFIED:20240910T072003Z
UID:9300-1734681600-1736182800@ms-grafendorf.at
SUMMARY:Weihnachtsferien
DESCRIPTION:
URL:https://ms-grafendorf.at/kalender/weihnachtsferien-4/
END:VEVENT
END:VCALENDAR