BEGIN:VCALENDAR
VERSION:2.0
PRODID:-//MS Grafendorf - ECPv6.15.3//NONSGML v1.0//EN
CALSCALE:GREGORIAN
METHOD:PUBLISH
X-WR-CALNAME:MS Grafendorf
X-ORIGINAL-URL:https://ms-grafendorf.at
X-WR-CALDESC:Veranstaltungen für MS Grafendorf
REFRESH-INTERVAL;VALUE=DURATION:PT1H
X-Robots-Tag:noindex
X-PUBLISHED-TTL:PT1H
BEGIN:VTIMEZONE
TZID:Europe/Berlin
BEGIN:DAYLIGHT
TZOFFSETFROM:+0100
TZOFFSETTO:+0200
TZNAME:CEST
DTSTART:20260329T010000
END:DAYLIGHT
BEGIN:STANDARD
TZOFFSETFROM:+0200
TZOFFSETTO:+0100
TZNAME:CET
DTSTART:20261025T010000
END:STANDARD
END:VTIMEZONE
BEGIN:VEVENT
DTSTART;TZID=Europe/Berlin:20260325T080000
DTEND;TZID=Europe/Berlin:20260327T170000
DTSTAMP:20260420T231252
CREATED:20250919T113907Z
LAST-MODIFIED:20250919T113907Z
UID:10050-1774425600-1774630800@ms-grafendorf.at
SUMMARY:English in Action Projekttage
DESCRIPTION:
URL:https://ms-grafendorf.at/kalender/english-in-action-projekttage/
END:VEVENT
END:VCALENDAR