BEGIN:VCALENDAR
VERSION:2.0
PRODID:-//MS Grafendorf - ECPv6.15.3//NONSGML v1.0//EN
CALSCALE:GREGORIAN
METHOD:PUBLISH
X-WR-CALNAME:MS Grafendorf
X-ORIGINAL-URL:https://ms-grafendorf.at
X-WR-CALDESC:Veranstaltungen für MS Grafendorf
REFRESH-INTERVAL;VALUE=DURATION:PT1H
X-Robots-Tag:noindex
X-PUBLISHED-TTL:PT1H
BEGIN:VTIMEZONE
TZID:Europe/Berlin
BEGIN:DAYLIGHT
TZOFFSETFROM:+0100
TZOFFSETTO:+0200
TZNAME:CEST
DTSTART:20250330T010000
END:DAYLIGHT
BEGIN:STANDARD
TZOFFSETFROM:+0200
TZOFFSETTO:+0100
TZNAME:CET
DTSTART:20251026T010000
END:STANDARD
END:VTIMEZONE
BEGIN:VEVENT
DTSTART;TZID=Europe/Berlin:20251211T080000
DTEND;TZID=Europe/Berlin:20251211T170000
DTSTAMP:20260421T033639
CREATED:20250930T100001Z
LAST-MODIFIED:20250930T100001Z
UID:10124-1765440000-1765472400@ms-grafendorf.at
SUMMARY:Deutsch SA 1ab
DESCRIPTION:
URL:https://ms-grafendorf.at/kalender/deutsch-sa-1ab-19/
CATEGORIES:Schularbeiten
END:VEVENT
BEGIN:VEVENT
DTSTART;TZID=Europe/Berlin:20251211T080000
DTEND;TZID=Europe/Berlin:20251211T170000
DTSTAMP:20260421T033639
CREATED:20250930T100226Z
LAST-MODIFIED:20250930T100226Z
UID:10139-1765440000-1765472400@ms-grafendorf.at
SUMMARY:Deutsch SA 2ab
DESCRIPTION:
URL:https://ms-grafendorf.at/kalender/deutsch-sa-2ab-16/
CATEGORIES:Schularbeiten
END:VEVENT
END:VCALENDAR