BEGIN:VCALENDAR
VERSION:2.0
PRODID:-//MS Grafendorf - ECPv6.15.3//NONSGML v1.0//EN
CALSCALE:GREGORIAN
METHOD:PUBLISH
X-ORIGINAL-URL:https://ms-grafendorf.at
X-WR-CALDESC:Veranstaltungen für MS Grafendorf
REFRESH-INTERVAL;VALUE=DURATION:PT1H
X-Robots-Tag:noindex
X-PUBLISHED-TTL:PT1H
BEGIN:VTIMEZONE
TZID:Europe/Berlin
BEGIN:DAYLIGHT
TZOFFSETFROM:+0100
TZOFFSETTO:+0200
TZNAME:CEST
DTSTART:20250330T010000
END:DAYLIGHT
BEGIN:STANDARD
TZOFFSETFROM:+0200
TZOFFSETTO:+0100
TZNAME:CET
DTSTART:20251026T010000
END:STANDARD
END:VTIMEZONE
BEGIN:VEVENT
DTSTART;TZID=Europe/Berlin:20250512T080000
DTEND;TZID=Europe/Berlin:20250516T170000
DTSTAMP:20260421T141516
CREATED:20240910T082924Z
LAST-MODIFIED:20240910T082924Z
UID:9321-1747036800-1747414800@ms-grafendorf.at
SUMMARY:Sommersportwoche 4ab
DESCRIPTION:
URL:https://ms-grafendorf.at/kalender/sommersportwoche-4ab-6/
CATEGORIES:Schulveranstaltungen
END:VEVENT
END:VCALENDAR