BEGIN:VCALENDAR
VERSION:2.0
PRODID:-//MS Grafendorf - ECPv6.15.3//NONSGML v1.0//EN
CALSCALE:GREGORIAN
METHOD:PUBLISH
X-WR-CALNAME:MS Grafendorf
X-ORIGINAL-URL:https://ms-grafendorf.at
X-WR-CALDESC:Veranstaltungen für MS Grafendorf
REFRESH-INTERVAL;VALUE=DURATION:PT1H
X-Robots-Tag:noindex
X-PUBLISHED-TTL:PT1H
BEGIN:VTIMEZONE
TZID:Europe/Berlin
BEGIN:DAYLIGHT
TZOFFSETFROM:+0100
TZOFFSETTO:+0200
TZNAME:CEST
DTSTART:20240331T010000
END:DAYLIGHT
BEGIN:STANDARD
TZOFFSETFROM:+0200
TZOFFSETTO:+0100
TZNAME:CET
DTSTART:20241027T010000
END:STANDARD
END:VTIMEZONE
BEGIN:VEVENT
DTSTART;TZID=Europe/Berlin:20241121T080000
DTEND;TZID=Europe/Berlin:20241121T170000
DTSTAMP:20260421T233917
CREATED:20240924T101444Z
LAST-MODIFIED:20240924T101444Z
UID:9373-1732176000-1732208400@ms-grafendorf.at
SUMMARY:Englisch SA 1ab
DESCRIPTION:
URL:https://ms-grafendorf.at/kalender/englisch-sa-1ab-15/
CATEGORIES:Schularbeiten
END:VEVENT
BEGIN:VEVENT
DTSTART;TZID=Europe/Berlin:20241121T080000
DTEND;TZID=Europe/Berlin:20241121T170000
DTSTAMP:20260421T233917
CREATED:20240924T102047Z
LAST-MODIFIED:20250214T085725Z
UID:9394-1732176000-1732208400@ms-grafendorf.at
SUMMARY:Mathematik Schularbeit 3ab
DESCRIPTION:
URL:https://ms-grafendorf.at/kalender/mathematik-sa-3ab-12/
CATEGORIES:Schularbeiten
END:VEVENT
END:VCALENDAR