BEGIN:VCALENDAR
VERSION:2.0
PRODID:-//MS Grafendorf - ECPv6.15.3//NONSGML v1.0//EN
CALSCALE:GREGORIAN
METHOD:PUBLISH
X-ORIGINAL-URL:https://ms-grafendorf.at
X-WR-CALDESC:Veranstaltungen für MS Grafendorf
REFRESH-INTERVAL;VALUE=DURATION:PT1H
X-Robots-Tag:noindex
X-PUBLISHED-TTL:PT1H
BEGIN:VTIMEZONE
TZID:Europe/Berlin
BEGIN:DAYLIGHT
TZOFFSETFROM:+0100
TZOFFSETTO:+0200
TZNAME:CEST
DTSTART:20240331T010000
END:DAYLIGHT
BEGIN:STANDARD
TZOFFSETFROM:+0200
TZOFFSETTO:+0100
TZNAME:CET
DTSTART:20241027T010000
END:STANDARD
END:VTIMEZONE
BEGIN:VEVENT
DTSTART;TZID=Europe/Berlin:20241022T080000
DTEND;TZID=Europe/Berlin:20241022T170000
DTSTAMP:20260422T011627
CREATED:20240924T101332Z
LAST-MODIFIED:20240924T101332Z
UID:9365-1729584000-1729616400@ms-grafendorf.at
SUMMARY:Deutsch SA 1ab
DESCRIPTION:
URL:https://ms-grafendorf.at/kalender/deutsch-sa-1ab-16/
CATEGORIES:Schularbeiten
END:VEVENT
END:VCALENDAR