BEGIN:VCALENDAR
VERSION:2.0
PRODID:-//MS Grafendorf - ECPv6.15.3//NONSGML v1.0//EN
CALSCALE:GREGORIAN
METHOD:PUBLISH
X-ORIGINAL-URL:https://ms-grafendorf.at
X-WR-CALDESC:Veranstaltungen für MS Grafendorf
REFRESH-INTERVAL;VALUE=DURATION:PT1H
X-Robots-Tag:noindex
X-PUBLISHED-TTL:PT1H
BEGIN:VTIMEZONE
TZID:Europe/Berlin
BEGIN:DAYLIGHT
TZOFFSETFROM:+0100
TZOFFSETTO:+0200
TZNAME:CEST
DTSTART:20230326T010000
END:DAYLIGHT
BEGIN:STANDARD
TZOFFSETFROM:+0200
TZOFFSETTO:+0100
TZNAME:CET
DTSTART:20231029T010000
END:STANDARD
END:VTIMEZONE
BEGIN:VEVENT
DTSTART;TZID=Europe/Berlin:20230620T080000
DTEND;TZID=Europe/Berlin:20230620T170000
DTSTAMP:20260425T043548
CREATED:20230330T092224Z
LAST-MODIFIED:20230330T092224Z
UID:8488-1687248000-1687280400@ms-grafendorf.at
SUMMARY:Mathematik Schularbeit 2ab
DESCRIPTION:
URL:https://ms-grafendorf.at/kalender/mathematik-schularbeit-2ab-8/
CATEGORIES:Schularbeiten
END:VEVENT
END:VCALENDAR